BEGIN:VCALENDAR
VERSION:2.0
PRODID:-//Intand Corporation//Tandem//EN
METHOD:PUBLISH
BEGIN:VEVENT
DTSTAMP:20260424T043520Z
DTSTART:20190413T170000Z
DTEND:20190413T200000Z
TRANSP:TRANSPARENT
PRIORITY:0
SUMMARY:LHS-Varsity Baseball Home vs Oak Park
LOCATION:Oak Park High School
DESCRIPTION:12pm game 1\,  2pm game 2\n\nGroups:\nLHS Baseball Varsity\n\n
 Schools:\nLiberty High School\n\nLocation:\nOak Park High School\n\n
URL;VALUE=URI:http://liberty53.tandem.co/index.php?type=view&action=event&
 id=315582
CREATED:20180618T134912Z
LAST-MODIFIED:20180618T142933Z
UID:event-315582-liberty53@intand.com
END:VEVENT
END:VCALENDAR
