BEGIN:VCALENDAR
VERSION:2.0
PRODID:-//Intand Corporation//Tandem//EN
METHOD:PUBLISH
BEGIN:VEVENT
DTSTAMP:20260424T024318Z
DTSTART:20190412T210000Z
DTEND:20190412T230000Z
TRANSP:TRANSPARENT
PRIORITY:0
SUMMARY:LHS-Varsity Baseball Away vs Staley
LOCATION:Staley High School
DESCRIPTION:Groups:\nLHS Baseball Varsity\n\nSchools:\nLiberty High School
 \n\nLocation:\nStaley High School\n\n
URL;VALUE=URI:http://liberty53.tandem.co/index.php?type=view&action=event&
 id=315581
CREATED:20180618T134912Z
LAST-MODIFIED:20180618T142502Z
UID:event-315581-liberty53@intand.com
END:VEVENT
END:VCALENDAR
