BEGIN:VCALENDAR
VERSION:2.0
PRODID:-//Intand Corporation//Tandem//EN
METHOD:PUBLISH
BEGIN:VEVENT
DTSTAMP:20260424T024525Z
DTSTART:20190408T213000Z
DTEND:20190408T230000Z
TRANSP:TRANSPARENT
PRIORITY:0
SUMMARY:LHS-Varsity Baseball Away vs Truman
LOCATION:Truman High School
DESCRIPTION:Groups:\nLHS Baseball Varsity\n\nSchools:\nLiberty High School
 \nTruman High School\n\nLocation:\nTruman High School\n\n
URL;VALUE=URI:http://liberty53.tandem.co/index.php?type=view&action=event&
 id=315579
CREATED:20180618T134912Z
LAST-MODIFIED:20180618T141912Z
UID:event-315579-liberty53@intand.com
END:VEVENT
END:VCALENDAR
