BEGIN:VCALENDAR
VERSION:2.0
PRODID:-//Intand Corporation//Tandem//EN
METHOD:PUBLISH
BEGIN:VEVENT
DTSTAMP:20260424T023609Z
DTSTART:20190524T230000Z
DTEND:20190525T023000Z
TRANSP:TRANSPARENT
PRIORITY:0
SUMMARY:BBFP Show
LOCATION:LNHS Performing Arts Theater (GH HVAC)
DESCRIPTION:Groups:\nLNHS Improv\n\nSchools:\nLiberty North High School\n\
 nLocation:\nLNHS Performing Arts Theater (GH HVAC)\n\nContacts:\nSara Turn
 er\n\nSupervisors:\nAaron Money\n\n
URL;VALUE=URI:http://liberty53.tandem.co/index.php?type=view&action=event&
 id=315558
CREATED:20180615T233738Z
LAST-MODIFIED:20190506T141326Z
UID:event_request-315558-liberty53@intand.com
END:VEVENT
END:VCALENDAR
