BEGIN:VCALENDAR
VERSION:2.0
PRODID:-//Intand Corporation//Tandem//EN
METHOD:PUBLISH
BEGIN:VEVENT
DTSTAMP:20260424T041343Z
DTSTART:20180814T120000Z
DTEND:20180814T180000Z
TRANSP:TRANSPARENT
PRIORITY:0
SUMMARY:DMS - WEB Transition Day
LOCATION:Discovery Middle School
DESCRIPTION:Groups:\nDMS Staff\n\nSchools:\nDiscovery Middle School\n\nLoc
 ation:\nDiscovery Middle School\n\n
URL;VALUE=URI:http://liberty53.tandem.co/index.php?type=view&action=event&
 id=315542
CREATED:20180615T185659Z
LAST-MODIFIED:20180615T185659Z
UID:event-315542-liberty53@intand.com
END:VEVENT
END:VCALENDAR
