BEGIN:VCALENDAR
VERSION:2.0
PRODID:-//Intand Corporation//Tandem//EN
METHOD:PUBLISH
BEGIN:VEVENT
DTSTAMP:20260424T072620Z
DTSTART:20180810T123000Z
DTEND:20180810T173000Z
TRANSP:TRANSPARENT
PRIORITY:0
SUMMARY:DMS- WEB Training Day #1
LOCATION:DMS Gym
DESCRIPTION:Groups:\nDMS Administrative Assistants\n\nSchools:\nDiscovery 
 Middle School\n\nLocation:\nDMS Gym\n\n
URL;VALUE=URI:http://liberty53.tandem.co/index.php?type=view&action=event&
 id=315524
CREATED:20180615T144808Z
LAST-MODIFIED:20180615T174326Z
UID:event_request-315524-liberty53@intand.com
END:VEVENT
END:VCALENDAR
