BEGIN:VCALENDAR
VERSION:2.0
PRODID:-//Intand Corporation//Tandem//EN
METHOD:PUBLISH
BEGIN:VEVENT
DTSTAMP:20260424T024537Z
DTSTART;VALUE=DATE:20181103
DTEND;VALUE=DATE:20181104
TRANSP:TRANSPARENT
PRIORITY:0
SUMMARY:LHS-XC State
LOCATION:OAK HILL ELEM.
DESCRIPTION:Setup: TBD\nBreakdown: TBD\n\nDepart: TBD\nReturn: TBD\n\nGrou
 ps:\nLHS Cross Country JV/Varsity\nLHS Cross Country Varsity\nLHS Cross Co
 untry\n\nSchools:\nLiberty High School\nOAK HILL ELEM.\n\nLocation:\nOAK H
 ILL ELEM.\n\n
URL;VALUE=URI:http://liberty53.tandem.co/index.php?type=view&action=event&
 id=315463
CREATED:20180614T175112Z
LAST-MODIFIED:20180614T175112Z
UID:event-315463-liberty53@intand.com
END:VEVENT
END:VCALENDAR
