BEGIN:VCALENDAR
VERSION:2.0
PRODID:-//Intand Corporation//Tandem//EN
METHOD:PUBLISH
BEGIN:VEVENT
DTSTAMP:20260424T040552Z
DTSTART;VALUE=DATE:20190115
DTEND;VALUE=DATE:20190116
TRANSP:TRANSPARENT
PRIORITY:0
SUMMARY:LHS-JV GBB Tournament @ Lee Summit North
LOCATION:Lee's Summit North High School
DESCRIPTION:Setup: TBD\nBreakdown: TBD\n\nDepart: TBD\nReturn: TBD\n\nGrou
 ps:\nLHS Girls Basketball JV/Varsity\n\nSchools:\nLiberty High School\n\nL
 ocation:\nLee's Summit North High School\n\n
URL;VALUE=URI:http://liberty53.tandem.co/index.php?type=view&action=event&
 id=314839
CREATED:20180614T163537Z
LAST-MODIFIED:20180614T163537Z
UID:event-314839-liberty53@intand.com
END:VEVENT
END:VCALENDAR
