BEGIN:VCALENDAR
VERSION:2.0
PRODID:-//Intand Corporation//Tandem//EN
METHOD:PUBLISH
BEGIN:VEVENT
DTSTAMP:20260424T072701Z
DTSTART:20180921T130000Z
DTEND:20180921T203000Z
TRANSP:TRANSPARENT
PRIORITY:0
SUMMARY:[Cancelled] DAC 3 - Board Room Progress Track Training
LOCATION:DAC 3-Board Room
DESCRIPTION:Groups:\nSSC Special Services Staff\n\nSchools:\nDistrict Admi
 nistration Center\n\nLocation:\nDAC 3-Board Room\n\n
URL;VALUE=URI:http://liberty53.tandem.co/index.php?type=view&action=event&
 id=314353
CREATED:20180614T134350Z
LAST-MODIFIED:20180920T173914Z
UID:event_request-314353-liberty53@intand.com
END:VEVENT
END:VCALENDAR
