BEGIN:VCALENDAR
VERSION:2.0
PRODID:-//Intand Corporation//Tandem//EN
METHOD:PUBLISH
BEGIN:VEVENT
DTSTAMP:20260424T053311Z
DTSTART:20181127T001500Z
DTEND:20181127T011500Z
TRANSP:TRANSPARENT
PRIORITY:0
SUMMARY:POSTPONED WEATHER LHS-C Silver BBall Home vs Park Hill 
LOCATION:LHS Cokely Gym
DESCRIPTION:Groups:\nLHS Boys Basketball\nLHS Boys Basketball Freshman\n\n
 Schools:\nLiberty High School\n\nLocation:\nLHS Cokely Gym\n\n
URL;VALUE=URI:http://liberty53.tandem.co/index.php?type=view&action=event&
 id=314256
CREATED:20180613T201153Z
LAST-MODIFIED:20181126T222432Z
UID:event-314256-liberty53@intand.com
END:VEVENT
END:VCALENDAR
