BEGIN:VCALENDAR
VERSION:2.0
PRODID:-//Intand Corporation//Tandem//EN
METHOD:PUBLISH
BEGIN:VEVENT
DTSTAMP:20260424T041400Z
DTSTART:20190117T220000Z
DTEND:20190118T000000Z
TRANSP:TRANSPARENT
PRIORITY:0
SUMMARY:LNHS Soph & Family Class Ring Night
LOCATION:LNHS Great Hall
DESCRIPTION:Groups:\nLNHS Grade 10\n\nSchools:\nLiberty North High School\
 n\nLocation:\nLNHS Great Hall\n\n
URL;VALUE=URI:http://liberty53.tandem.co/index.php?type=view&action=event&
 id=314170
CREATED:20180613T192102Z
LAST-MODIFIED:20180613T192102Z
UID:event-314170-liberty53@intand.com
END:VEVENT
END:VCALENDAR
