BEGIN:VCALENDAR
VERSION:2.0
PRODID:-//Intand Corporation//Tandem//EN
METHOD:PUBLISH
BEGIN:VEVENT
DTSTAMP:20260424T034904Z
DTSTART;VALUE=DATE:20181207
DTEND;VALUE=DATE:20181208
TRANSP:TRANSPARENT
PRIORITY:0
SUMMARY:LHS-C Gold BBall Tournament @ Park Hill
LOCATION:Park Hill High School
DESCRIPTION:Setup: TBD\nBreakdown: TBD\n\nDepart: TBD\nReturn: TBD\n\nGrou
 ps:\nLHS Boys Basketball\nLHS Boys Basketball Freshman\n\nSchools:\nLibert
 y High School\n\nLocation:\nPark Hill High School\n\n
URL;VALUE=URI:http://liberty53.tandem.co/index.php?type=view&action=event&
 id=314145
CREATED:20180613T182540Z
LAST-MODIFIED:20180613T191910Z
UID:event-314145-liberty53@intand.com
END:VEVENT
END:VCALENDAR
