BEGIN:VCALENDAR
VERSION:2.0
PRODID:-//Intand Corporation//Tandem//EN
METHOD:PUBLISH
BEGIN:VEVENT
DTSTAMP:20260424T055122Z
DTSTART:20180926T203000Z
DTEND:20180926T230000Z
TRANSP:TRANSPARENT
PRIORITY:0
SUMMARY:LHS- JV/Var GGolf AWAY vs Liberty North
LOCATION:Liberty Hills Country Club
DESCRIPTION:Groups:\nLHS Girls Golf\nLHS Girls Golf Varsity\nLHS Girls Gol
 f JV/Varsity\n\nSchools:\nLiberty High School\n\nLocation:\nLiberty Hills 
 Country Club\n\n
URL;VALUE=URI:http://liberty53.tandem.co/index.php?type=view&action=event&
 id=314133
CREATED:20180613T165331Z
LAST-MODIFIED:20180613T165331Z
UID:event-314133-liberty53@intand.com
END:VEVENT
END:VCALENDAR
