BEGIN:VCALENDAR
VERSION:2.0
PRODID:-//Intand Corporation//Tandem//EN
METHOD:PUBLISH
BEGIN:VEVENT
DTSTAMP:20260424T034830Z
DTSTART:20180920T203000Z
DTEND:20180920T230000Z
TRANSP:TRANSPARENT
PRIORITY:0
SUMMARY:LHS-JV/Var GGolf Away @ Tiffany Springs PH
LOCATION:Park Hill High School
DESCRIPTION:Groups:\nLHS Girls Golf\nLHS Girls Golf Varsity\nLHS Girls Gol
 f JV/Varsity\n\nSchools:\nLiberty High School\n\nLocation:\nPark Hill High
  School\n\n
URL;VALUE=URI:http://liberty53.tandem.co/index.php?type=view&action=event&
 id=314130
CREATED:20180613T164943Z
LAST-MODIFIED:20180613T164943Z
UID:event-314130-liberty53@intand.com
END:VEVENT
END:VCALENDAR
