BEGIN:VCALENDAR
VERSION:2.0
PRODID:-//Intand Corporation//Tandem//EN
METHOD:PUBLISH
BEGIN:VEVENT
DTSTAMP:20260424T072704Z
DTSTART;VALUE=DATE:20180917
DTEND;VALUE=DATE:20180918
TRANSP:TRANSPARENT
PRIORITY:0
SUMMARY:LHS-Var GGolf @ Oal park Trn
LOCATION:Paradise Pointe Golf Course
DESCRIPTION:Groups:\nLHS Girls Golf Varsity\nLHS Girls Golf JV/Varsity\n\n
 Schools:\nLiberty High School\n\nLocation:\nParadise Pointe Golf Course\n\
 n
URL;VALUE=URI:http://liberty53.tandem.co/index.php?type=view&action=event&
 id=314129
CREATED:20180613T164752Z
LAST-MODIFIED:20180613T164752Z
UID:event-314129-liberty53@intand.com
END:VEVENT
END:VCALENDAR
