BEGIN:VCALENDAR
VERSION:2.0
PRODID:-//Intand Corporation//Tandem//EN
METHOD:PUBLISH
BEGIN:VEVENT
DTSTAMP:20260424T034818Z
DTSTART:20180912T190000Z
DTEND:20180912T230000Z
TRANSP:TRANSPARENT
PRIORITY:0
SUMMARY:LHS- Var GGolf @ PHS Quad (Deuce)
LOCATION:Park Hill South High School
DESCRIPTION:Groups:\nLHS Girls Golf\nLHS Girls Golf Varsity\n\nSchools:\nL
 iberty High School\n\nLocation:\nPark Hill South High School\n\n
URL;VALUE=URI:http://liberty53.tandem.co/index.php?type=view&action=event&
 id=314127
CREATED:20180613T164042Z
LAST-MODIFIED:20180613T164042Z
UID:event-314127-liberty53@intand.com
END:VEVENT
END:VCALENDAR
