BEGIN:VCALENDAR
VERSION:2.0
PRODID:-//Intand Corporation//Tandem//EN
METHOD:PUBLISH
BEGIN:VEVENT
DTSTAMP:20260424T043154Z
DTSTART:20190405T154000Z
DTEND:20190405T170500Z
TRANSP:TRANSPARENT
PRIORITY:0
SUMMARY:LHS Jostens Ring/Announcement Delivery
LOCATION:LHS Commons
DESCRIPTION:Groups:\nLHS Administrative Assistants\n\nSchools:\nLiberty Hi
 gh School\n\nLocation:\nLHS Commons\n\n
URL;VALUE=URI:http://liberty53.tandem.co/index.php?type=view&action=event&
 id=314070
CREATED:20180613T141341Z
LAST-MODIFIED:20180613T141341Z
UID:event-314070-liberty53@intand.com
END:VEVENT
END:VCALENDAR
