BEGIN:VCALENDAR
VERSION:2.0
PRODID:-//Intand Corporation//Tandem//EN
METHOD:PUBLISH
BEGIN:VEVENT
DTSTAMP:20260424T032119Z
DTSTART:20190313T153000Z
DTEND:20190313T164000Z
TRANSP:TRANSPARENT
PRIORITY:0
SUMMARY:LHS Jostens Grade Announcement Delivery
LOCATION:LHS Commons
DESCRIPTION:Groups:\nLHS Grade 12\n\nSchools:\nLiberty High School\n\nLoca
 tion:\nLHS Commons\n\n
URL;VALUE=URI:http://liberty53.tandem.co/index.php?type=view&action=event&
 id=314068
CREATED:20180613T141208Z
LAST-MODIFIED:20180613T141208Z
UID:event-314068-liberty53@intand.com
END:VEVENT
END:VCALENDAR
