BEGIN:VCALENDAR
VERSION:2.0
PRODID:-//Intand Corporation//Tandem//EN
METHOD:PUBLISH
BEGIN:VEVENT
DTSTAMP:20260424T055331Z
DTSTART:20190208T165400Z
DTEND:20190208T181100Z
TRANSP:TRANSPARENT
PRIORITY:0
SUMMARY:LHS Jostens Class Ring Order Day
LOCATION:LHS Commons
DESCRIPTION:Schools:\nLiberty High School\n\nLocation:\nLHS Commons\n\n
URL;VALUE=URI:http://liberty53.tandem.co/index.php?type=view&action=event&
 id=314027
CREATED:20180613T132241Z
LAST-MODIFIED:20190207T163246Z
UID:event-314027-liberty53@intand.com
END:VEVENT
END:VCALENDAR
