BEGIN:VCALENDAR
VERSION:2.0
PRODID:-//Intand Corporation//Tandem//EN
METHOD:PUBLISH
BEGIN:VEVENT
DTSTAMP:20260424T034913Z
DTSTART;VALUE=DATE:20181201
DTEND;VALUE=DATE:20181202
TRANSP:TRANSPARENT
PRIORITY:0
SUMMARY:LHS-JV Wrestling Trn Away @ Blue Springs
LOCATION:Blue Springs High School
DESCRIPTION:Groups:\nLHS Wrestling\nLHS Wrestling JV/Varsity\n\nSchools:\n
 Liberty High School\n\nLocation:\nBlue Springs High School\n\n
URL;VALUE=URI:http://liberty53.tandem.co/index.php?type=view&action=event&
 id=314019
CREATED:20180613T131839Z
LAST-MODIFIED:20180613T131839Z
UID:event-314019-liberty53@intand.com
END:VEVENT
END:VCALENDAR
