BEGIN:VCALENDAR
VERSION:2.0
PRODID:-//Intand Corporation//Tandem//EN
METHOD:PUBLISH
BEGIN:VEVENT
DTSTAMP:20260424T055341Z
DTSTART:20180827T170000Z
DTEND:20180827T180000Z
TRANSP:TRANSPARENT
PRIORITY:0
SUMMARY:LHS-JV Softball Tournament Away @ Legacy Park
LOCATION:Legacy Park Softball Fields
DESCRIPTION:Groups:\nLHS Softball JV/Varsity\n\nSchools:\nLiberty High Sch
 ool\n\nLocation:\nLegacy Park Softball Fields\n\n
URL;VALUE=URI:http://liberty53.tandem.co/index.php?type=view&action=event&
 id=313899
CREATED:20180612T174224Z
LAST-MODIFIED:20180612T174224Z
UID:event-313899-liberty53@intand.com
END:VEVENT
END:VCALENDAR
