BEGIN:VCALENDAR
VERSION:2.0
PRODID:-//Intand Corporation//Tandem//EN
METHOD:PUBLISH
BEGIN:VEVENT
DTSTAMP:20260424T061434Z
DTSTART:20181213T223000Z
DTEND:20181213T230000Z
TRANSP:TRANSPARENT
PRIORITY:0
SUMMARY:Beginning Band Concert at 6:30 pm
LOCATION:DMS Cafeteria\, DMS Room 300
DESCRIPTION:Groups:\nDMS Band\n\nSchools:\nDiscovery Middle School\n\nLoca
 tions:\nDMS Cafeteria\nDMS Room 300\n\n
URL;VALUE=URI:http://liberty53.tandem.co/index.php?type=view&action=event&
 id=313860
CREATED:20180612T170520Z
LAST-MODIFIED:20180614T120811Z
UID:event_request-313860-liberty53@intand.com
END:VEVENT
END:VCALENDAR
