BEGIN:VCALENDAR
VERSION:2.0
PRODID:-//Intand Corporation//Tandem//EN
METHOD:PUBLISH
BEGIN:VEVENT
DTSTAMP:20260424T040646Z
DTSTART;VALUE=DATE:20180907
DTEND;VALUE=DATE:20180908
TRANSP:TRANSPARENT
PRIORITY:0
SUMMARY:LHS-JV/Var Independence Swim & Dive Invite
LOCATION:Henley Aquatic Center
DESCRIPTION:Groups:\nLHS Boys Swim & Dive\nLHS Boys Swim & Dive JV/Varsity
 \nLHS Boys Swim & Dive Varsity\n\nSchools:\nLiberty High School\n\nLocatio
 n:\nHenley Aquatic Center\n\n
URL;VALUE=URI:http://liberty53.tandem.co/index.php?type=view&action=event&
 id=313841
CREATED:20180612T152841Z
LAST-MODIFIED:20180612T153153Z
UID:event-313841-liberty53@intand.com
END:VEVENT
END:VCALENDAR
