BEGIN:VCALENDAR
VERSION:2.0
PRODID:-//Intand Corporation//Tandem//EN
METHOD:PUBLISH
BEGIN:VEVENT
DTSTAMP:20260424T074028Z
DTSTART:20190503T000000Z
DTEND:20190503T020000Z
TRANSP:TRANSPARENT
PRIORITY:0
SUMMARY:Spring Play-Bus Stop
LOCATION:LNHS Room 607 Black Box Theater
DESCRIPTION:Groups:\nLNHS Theater\n\nSchools:\nLiberty North High School\n
 \nLocation:\nLNHS Room 607 Black Box Theater\n\n
URL;VALUE=URI:http://liberty53.tandem.co/index.php?type=view&action=event&
 id=313789
CREATED:20180612T145105Z
LAST-MODIFIED:20190116T204333Z
UID:event_request-313789-liberty53@intand.com
END:VEVENT
END:VCALENDAR
