BEGIN:VCALENDAR
VERSION:2.0
PRODID:-//Intand Corporation//Tandem//EN
METHOD:PUBLISH
BEGIN:VEVENT
DTSTAMP:20260424T091510Z
DTSTART;VALUE=DATE:20180918
DTEND;VALUE=DATE:20180919
TRANSP:TRANSPARENT
PRIORITY:0
SUMMARY:LHS-V St. Thomas Aquinas Tennis Tournament
LOCATION:Plaza Tennis Center
DESCRIPTION:Groups:\nLHS Girls Tennis Varsity\n\nSchools:\nLiberty High Sc
 hool\n\nLocation:\nPlaza Tennis Center\n\n
URL;VALUE=URI:http://liberty53.tandem.co/index.php?type=view&action=event&
 id=313788
CREATED:20180612T144906Z
LAST-MODIFIED:20180612T144906Z
UID:event-313788-liberty53@intand.com
END:VEVENT
END:VCALENDAR
