BEGIN:VCALENDAR
VERSION:2.0
PRODID:-//Intand Corporation//Tandem//EN
METHOD:PUBLISH
BEGIN:VEVENT
DTSTAMP:20260424T030339Z
DTSTART:20181218T000000Z
DTEND:20181218T003000Z
TRANSP:TRANSPARENT
PRIORITY:0
SUMMARY:SC-2nd Grade Music Program - LPAT
LOCATION:Liberty Performing Arts Theatre
DESCRIPTION:Groups:\nSCE Vocal Music\n\nSchools:\nShoal Creek Elementary\n
 \nLocation:\nLiberty Performing Arts Theatre\n\n
URL;VALUE=URI:http://liberty53.tandem.co/index.php?type=view&action=event&
 id=313760
CREATED:20180612T141926Z
LAST-MODIFIED:20180813T151834Z
UID:event_request-313760-liberty53@intand.com
END:VEVENT
END:VCALENDAR
