BEGIN:VCALENDAR
VERSION:2.0
PRODID:-//Intand Corporation//Tandem//EN
METHOD:PUBLISH
BEGIN:VEVENT
DTSTAMP:20260424T054040Z
DTSTART:20181107T000000Z
DTEND:20181107T010000Z
TRANSP:TRANSPARENT
PRIORITY:0
SUMMARY:SC-3rd Grade Music Program - LPAT
LOCATION:Liberty Performing Arts Theatre
DESCRIPTION:Groups:\nSCE Vocal Music\n\nSchools:\nShoal Creek Elementary\n
 \nLocation:\nLiberty Performing Arts Theatre\n\n
URL;VALUE=URI:http://liberty53.tandem.co/index.php?type=view&action=event&
 id=313758
CREATED:20180612T140518Z
LAST-MODIFIED:20180813T151728Z
UID:event_request-313758-liberty53@intand.com
END:VEVENT
END:VCALENDAR
