BEGIN:VCALENDAR
VERSION:2.0
PRODID:-//Intand Corporation//Tandem//EN
METHOD:PUBLISH
BEGIN:VEVENT
DTSTAMP:20260424T053842Z
DTSTART:20190503T153000Z
DTEND:20190503T171500Z
TRANSP:TRANSPARENT
PRIORITY:0
SUMMARY:LHS - First Friday Table for Counselors
LOCATION:LHS Cafeteria
DESCRIPTION:Groups:\nLHS Counselors\n\nSchools:\nLiberty High School\n\nLo
 cation:\nLHS Cafeteria\n\n
URL;VALUE=URI:http://liberty53.tandem.co/index.php?type=view&action=event&
 id=313695
CREATED:20180611T173258Z
LAST-MODIFIED:20180611T175837Z
UID:event_request-313695-liberty53@intand.com
END:VEVENT
END:VCALENDAR
