BEGIN:VCALENDAR
VERSION:2.0
PRODID:-//Intand Corporation//Tandem//EN
METHOD:PUBLISH
BEGIN:VEVENT
DTSTAMP:20260424T023207Z
DTSTART:20190327T124500Z
DTEND:20190327T132000Z
TRANSP:TRANSPARENT
PRIORITY:0
SUMMARY:LHS - Coffee with the Counselors
LOCATION:LHS LMC Lab 301
DESCRIPTION:Groups:\nLHS Counselors\n\nSchools:\nLiberty High School\n\nLo
 cation:\nLHS LMC Lab 301\n\n
URL;VALUE=URI:http://liberty53.tandem.co/index.php?type=view&action=event&
 id=313682
CREATED:20180611T171008Z
LAST-MODIFIED:20180611T172048Z
UID:event_request-313682-liberty53@intand.com
END:VEVENT
END:VCALENDAR
