BEGIN:VCALENDAR
VERSION:2.0
PRODID:-//Intand Corporation//Tandem//EN
METHOD:PUBLISH
BEGIN:VEVENT
DTSTAMP:20260424T073708Z
DTSTART:20180831T141000Z
DTEND:20180831T210000Z
TRANSP:TRANSPARENT
PRIORITY:0
SUMMARY:LS- Healthe Kids Screenings
LOCATION:LSE Room 114
DESCRIPTION:Groups:\nLSE Parent\nLSE Staff\n\nSchools:\nLillian Schumacher
  Elementary\n\nLocation:\nLSE Room 114\n\n
URL;VALUE=URI:http://liberty53.tandem.co/index.php?type=view&action=event&
 id=313591
CREATED:20180608T194756Z
LAST-MODIFIED:20180608T194756Z
UID:event-313591-liberty53@intand.com
END:VEVENT
END:VCALENDAR
