BEGIN:VCALENDAR
VERSION:2.0
PRODID:-//Intand Corporation//Tandem//EN
METHOD:PUBLISH
BEGIN:VEVENT
DTSTAMP:20260424T073621Z
DTSTART:20190329T000000Z
DTEND:20190329T010000Z
TRANSP:TRANSPARENT
PRIORITY:0
SUMMARY:LS- 3rd Grade Art & Music Show
LOCATION:LSE Cafeteria\, LSE Gym
DESCRIPTION:Setup: 6:55 pm\nBreakdown: 8:30 pm\n\nGroups:\nLSE Vocal Music
 \nLSE Staff\nLSE Parent\n\nSchools:\nLillian Schumacher Elementary\n\nLoca
 tions:\nLSE Cafeteria\nLSE Gym\n\n
URL;VALUE=URI:http://liberty53.tandem.co/index.php?type=view&action=event&
 id=313484
CREATED:20180608T183314Z
LAST-MODIFIED:20180608T183314Z
UID:event-313484-liberty53@intand.com
END:VEVENT
END:VCALENDAR
