BEGIN:VCALENDAR
VERSION:2.0
PRODID:-//Intand Corporation//Tandem//EN
METHOD:PUBLISH
BEGIN:VEVENT
DTSTAMP:20260424T073010Z
DTSTART:20190328T230000Z
DTEND:20190329T000000Z
TRANSP:TRANSPARENT
PRIORITY:0
SUMMARY:LS- 2nd Grade Art & Music Show
LOCATION:LSE Cafeteria\, LSE Gym
DESCRIPTION:Setup: 5:30 pm\nBreakdown: 7:05 pm\n\nGroups:\nLSE Vocal Music
 \nLSE Staff\nLSE Parent\n\nSchools:\nLillian Schumacher Elementary\n\nLoca
 tions:\nLSE Cafeteria\nLSE Gym\n\n
URL;VALUE=URI:http://liberty53.tandem.co/index.php?type=view&action=event&
 id=313481
CREATED:20180608T182825Z
LAST-MODIFIED:20180608T182825Z
UID:event-313481-liberty53@intand.com
END:VEVENT
END:VCALENDAR
