BEGIN:VCALENDAR
VERSION:2.0
PRODID:-//Intand Corporation//Tandem//EN
METHOD:PUBLISH
BEGIN:VEVENT
DTSTAMP:20260424T061304Z
DTSTART:20181016T220000Z
DTEND:20181017T013000Z
TRANSP:TRANSPARENT
PRIORITY:0
SUMMARY:LHS-JV/V BSoccer Home vs Park Hill South
LOCATION:LMS Soccer Complex
DESCRIPTION:5pm JV Start 6:30pm Var Start\n\nGroups:\nLHS Boys Soccer JV/V
 arsity\n\nSchools:\nLiberty High School\nLiberty Middle School\n\nLocation
 :\nLMS Soccer Complex\n\n
URL;VALUE=URI:http://liberty53.tandem.co/index.php?type=view&action=event&
 id=313475
CREATED:20180608T182333Z
LAST-MODIFIED:20181015T163614Z
UID:event-313475-liberty53@intand.com
END:VEVENT
END:VCALENDAR
