BEGIN:VCALENDAR
VERSION:2.0
PRODID:-//Intand Corporation//Tandem//EN
METHOD:PUBLISH
BEGIN:VEVENT
DTSTAMP:20260424T043407Z
DTSTART:20180926T220000Z
DTEND:20180927T013000Z
TRANSP:TRANSPARENT
PRIORITY:0
SUMMARY:LHS-JV/V BSoccer Away vs Lee Summit North
LOCATION:Lee's Summit North High School
DESCRIPTION:5pm JV Start 6:30pm Var Start\n\nGroups:\nLHS Boys Soccer JV/V
 arsity\n\nSchools:\nLiberty High School\n\nLocation:\nLee's Summit North H
 igh School\n\n
URL;VALUE=URI:http://liberty53.tandem.co/index.php?type=view&action=event&
 id=313470
CREATED:20180608T182333Z
LAST-MODIFIED:20180608T183903Z
UID:event-313470-liberty53@intand.com
END:VEVENT
END:VCALENDAR
