BEGIN:VCALENDAR
VERSION:2.0
PRODID:-//Intand Corporation//Tandem//EN
METHOD:PUBLISH
BEGIN:VEVENT
DTSTAMP:20260424T024034Z
DTSTART:20180910T220000Z
DTEND:20180911T013000Z
TRANSP:TRANSPARENT
PRIORITY:0
SUMMARY:LHS-JV/V BSoccer Away vs Staley
LOCATION:Staley High School
DESCRIPTION:5pm JV Start 6:30pm Var Start Playing at District Complex\n\nG
 roups:\nLHS Boys Soccer JV/Varsity\n\nSchools:\nLiberty High School\n\nLoc
 ation:\nStaley High School\n\n
URL;VALUE=URI:http://liberty53.tandem.co/index.php?type=view&action=event&
 id=313466
CREATED:20180608T182333Z
LAST-MODIFIED:20180608T182657Z
UID:event-313466-liberty53@intand.com
END:VEVENT
END:VCALENDAR
