BEGIN:VCALENDAR
VERSION:2.0
PRODID:-//Intand Corporation//Tandem//EN
METHOD:PUBLISH
BEGIN:VEVENT
DTSTAMP:20260424T061308Z
DTSTART:20181018T220000Z
DTEND:20181018T233000Z
TRANSP:TRANSPARENT
PRIORITY:0
SUMMARY:LHS-C Gold VB Home vs Truman
LOCATION:LHS Cokely Gym
DESCRIPTION:The teams will arrive at 4:30pm please make sure the gym is re
 ady to go.  THank you\n\nGroups:\nLHS Volleyball\n\nSchools:\nLiberty High
  School\n\nLocation:\nLHS Cokely Gym\n\n
URL;VALUE=URI:http://liberty53.tandem.co/index.php?type=view&action=event&
 id=313358
CREATED:20180608T150557Z
LAST-MODIFIED:20181007T144924Z
UID:event-313358-liberty53@intand.com
END:VEVENT
END:VCALENDAR
