BEGIN:VCALENDAR
VERSION:2.0
PRODID:-//Intand Corporation//Tandem//EN
METHOD:PUBLISH
BEGIN:VEVENT
DTSTAMP:20260424T043522Z
DTSTART:20181013T130000Z
DTEND:20181014T043000Z
TRANSP:TRANSPARENT
PRIORITY:0
SUMMARY:LHS-Stuco Homecoming Dance 2018
LOCATION:LHS Cokely Gym\, LHS Cafeteria\, LHS Commons\, LHS Lower Commons\
 , LHS Commons/State Wall\, LHS Fieldhouse Gym
DESCRIPTION:Groups:\nLHS Student Council\n\nSchools:\nLiberty High School\
 n\nLocations:\nLHS Cokely Gym\nLHS Cafeteria\nLHS Commons\nLHS Lower Commo
 ns\nLHS Commons/State Wall\nLHS Fieldhouse Gym\n\n
URL;VALUE=URI:http://liberty53.tandem.co/index.php?type=view&action=event&
 id=313299
CREATED:20180607T180819Z
LAST-MODIFIED:20180716T125345Z
UID:event-313299-liberty53@intand.com
END:VEVENT
END:VCALENDAR
