BEGIN:VCALENDAR
VERSION:2.0
PRODID:-//Intand Corporation//Tandem//EN
METHOD:PUBLISH
BEGIN:VEVENT
DTSTAMP:20260424T073553Z
DTSTART:20180919T230000Z
DTEND:20180920T010000Z
TRANSP:TRANSPARENT
PRIORITY:0
SUMMARY:LHS- C Silver FB Away vs Park Hill
LOCATION:Park Hill High School
DESCRIPTION:Groups:\nLHS Football Freshman\n\nSchools:\nLiberty High Schoo
 l\n\nLocation:\nPark Hill High School\n\n
URL;VALUE=URI:http://liberty53.tandem.co/index.php?type=view&action=event&
 id=313243
CREATED:20180607T172727Z
LAST-MODIFIED:20180607T172922Z
UID:event-313243-liberty53@intand.com
END:VEVENT
END:VCALENDAR
