BEGIN:VCALENDAR
VERSION:2.0
PRODID:-//Intand Corporation//Tandem//EN
METHOD:PUBLISH
BEGIN:VEVENT
DTSTAMP:20260424T061315Z
DTSTART:20180802T230000Z
DTEND:20180803T010000Z
TRANSP:TRANSPARENT
PRIORITY:0
SUMMARY:LNHS - Early Explorer's Parent Seminar
LOCATION:LNHS LMC - 200
DESCRIPTION:Groups:\nEarly Explorers Learning Center\n\nSchools:\nLiberty 
 North High School\n\nLocation:\nLNHS LMC - 200\n\n
URL;VALUE=URI:http://liberty53.tandem.co/index.php?type=view&action=event&
 id=313230
CREATED:20180607T135841Z
LAST-MODIFIED:20180607T135841Z
UID:event-313230-liberty53@intand.com
END:VEVENT
END:VCALENDAR
