BEGIN:VCALENDAR
VERSION:2.0
PRODID:-//Intand Corporation//Tandem//EN
METHOD:PUBLISH
BEGIN:VEVENT
DTSTAMP:20260424T022529Z
DTSTART:20180926T210000Z
DTEND:20180926T230000Z
TRANSP:TRANSPARENT
PRIORITY:0
SUMMARY:LHS- C Gold Football Home vs Liberty North
LOCATION:LHS Turf Game Field
DESCRIPTION:Groups:\nLHS Football Freshman\n\nSchools:\nLiberty High Schoo
 l\n\nLocation:\nLHS Turf Game Field\n\n
URL;VALUE=URI:http://liberty53.tandem.co/index.php?type=view&action=event&
 id=313110
CREATED:20180605T192831Z
LAST-MODIFIED:20180605T193313Z
UID:event-313110-liberty53@intand.com
END:VEVENT
END:VCALENDAR
