BEGIN:VCALENDAR
VERSION:2.0
PRODID:-//Intand Corporation//Tandem//EN
METHOD:PUBLISH
BEGIN:VEVENT
DTSTAMP:20260424T073659Z
DTSTART:20190223T003000Z
DTEND:20190223T023000Z
TRANSP:TRANSPARENT
PRIORITY:0
SUMMARY:MH-PTA Lip Sync Battle
LOCATION:MHE Cafeteria\, MHE Gym
DESCRIPTION:Groups:\nMHE Staff\nMHE Parent\nMHE PTA\n\nSchools:\nManor Hil
 l Elementary\n\nLocations:\nMHE Cafeteria\nMHE Gym\n\n
URL;VALUE=URI:http://liberty53.tandem.co/index.php?type=view&action=event&
 id=312942
CREATED:20180605T153908Z
LAST-MODIFIED:20180605T153908Z
UID:event-312942-liberty53@intand.com
END:VEVENT
END:VCALENDAR
