BEGIN:VCALENDAR
VERSION:2.0
PRODID:-//Intand Corporation//Tandem//EN
METHOD:PUBLISH
BEGIN:VEVENT
DTSTAMP:20260424T043043Z
DTSTART:20181015T210000Z
DTEND:20181015T230000Z
TRANSP:TRANSPARENT
PRIORITY:0
SUMMARY:LHS-JV Football Away vs St. Joe Central
LOCATION:St. Joe Central High
DESCRIPTION:Groups:\nLHS Football JV\n\nSchools:\nLiberty High School\nSt.
  Joe Central High\n\nLocation:\nSt. Joe Central High\n\n
URL;VALUE=URI:http://liberty53.tandem.co/index.php?type=view&action=event&
 id=312922
CREATED:20180605T140405Z
LAST-MODIFIED:20180605T142449Z
UID:event-312922-liberty53@intand.com
END:VEVENT
END:VCALENDAR
