BEGIN:VCALENDAR
VERSION:2.0
PRODID:-//Intand Corporation//Tandem//EN
METHOD:PUBLISH
BEGIN:VEVENT
DTSTAMP:20260424T055517Z
DTSTART:20180915T000000Z
DTEND:20180915T030000Z
TRANSP:TRANSPARENT
PRIORITY:0
SUMMARY:LHS- V Football Away vs Liberty North
LOCATION:LIBERTY NORTH HIGH SCHOOL
DESCRIPTION:Groups:\nLHS Football Varsity\n\nSchools:\nLiberty High School
 \nLIBERTY NORTH HIGH SCHOOL\n\nLocation:\nLIBERTY NORTH HIGH SCHOOL\n\n
URL;VALUE=URI:http://liberty53.tandem.co/index.php?type=view&action=event&
 id=312900
CREATED:20180605T135151Z
LAST-MODIFIED:20180605T135643Z
UID:event-312900-liberty53@intand.com
END:VEVENT
END:VCALENDAR
