BEGIN:VCALENDAR
VERSION:2.0
PRODID:-//Intand Corporation//Tandem//EN
METHOD:PUBLISH
BEGIN:VEVENT
DTSTAMP:20260424T063558Z
DTSTART:20190408T230000Z
DTEND:20190408T233000Z
TRANSP:TRANSPARENT
PRIORITY:0
SUMMARY:Elementary Vocal Showcase @ LPAT
LOCATION:Liberty Performing Arts Theatre\, LMS Room 505 - Band Room\, LMS 
 Cafeteria\, LMS Room 501 - Vocal Music\, LMS Commons
DESCRIPTION:Setup: 1:30 pm\nBreakdown: 8:00 pm\n\nGroups:\nLCE Vocal Music
 \nLOE Vocal Music\nLSE Vocal Music\nMHE Vocal Music\nSCE Vocal Music\n\nSc
 hools:\nLewis And Clark Elementary\nLiberty Middle School\nLiberty Oaks El
 ementary\nLillian Schumacher Elementary\nManor Hill Elementary\nShoal Cree
 k Elementary\n\nLocations:\nLiberty Performing Arts Theatre\nLMS Room 505 
 - Band Room\nLMS Cafeteria\nLMS Room 501 - Vocal Music\nLMS Commons\n\n
URL;VALUE=URI:http://liberty53.tandem.co/index.php?type=view&action=event&
 id=312835
CREATED:20180601T192556Z
LAST-MODIFIED:20190404T151924Z
UID:event-312835-liberty53@intand.com
END:VEVENT
END:VCALENDAR
