BEGIN:VCALENDAR
VERSION:2.0
PRODID:-//Intand Corporation//Tandem//EN
METHOD:PUBLISH
BEGIN:VEVENT
DTSTAMP:20260424T034826Z
DTSTART:20190119T000000Z
DTEND:20190119T030000Z
TRANSP:TRANSPARENT
PRIORITY:0
SUMMARY:Orchestra Winter Retreat (LMS/DMS 7th/8th gr Orch)
LOCATION:LMS Room 315-Orchestra\, LMS Room 503 - FACS Room\, LMS Room 505 
 - Band Room\, LMS Room 213\, LMS Room 208\, LMS Room 210\, LMS Room 501 - 
 Vocal Music\, LMS Commons\, LMS Room 504 - Art Room\, LMS Room 205
DESCRIPTION:Setup: 5:00 pm\nBreakdown: 9:30 pm\n\nGroups:\nDMS Orchestra\n
 LMS Orchestra\n\nSchools:\nDiscovery Middle School\nLiberty Middle School\
 n\nLocations:\nLMS Room 315-Orchestra\nLMS Room 503 - FACS Room\nLMS Room 
 505 - Band Room\nLMS Room 213\nLMS Room 208\nLMS Room 210\nLMS Room 501 - 
 Vocal Music\nLMS Commons\nLMS Room 504 - Art Room\nLMS Room 205\n\n
URL;VALUE=URI:http://liberty53.tandem.co/index.php?type=view&action=event&
 id=312833
CREATED:20180601T170746Z
LAST-MODIFIED:20180613T143958Z
UID:event_request-312833-liberty53@intand.com
END:VEVENT
END:VCALENDAR
