BEGIN:VCALENDAR
VERSION:2.0
PRODID:-//Intand Corporation//Tandem//EN
METHOD:PUBLISH
BEGIN:VEVENT
DTSTAMP:20260424T040853Z
DTSTART:20181213T150000Z
DTEND:20181213T154500Z
TRANSP:TRANSPARENT
PRIORITY:0
SUMMARY:LNHS Early Graduate Senior Meeting 
LOCATION:LNHS Room 707
DESCRIPTION:Groups:\nLNHS Grade 12\n\nSchools:\nLiberty North High School\
 n\nLocation:\nLNHS Room 707\n\n
URL;VALUE=URI:http://liberty53.tandem.co/index.php?type=view&action=event&
 id=309422
CREATED:20180530T174226Z
LAST-MODIFIED:20180530T181650Z
UID:event_request-309422-liberty53@intand.com
END:VEVENT
END:VCALENDAR
