BEGIN:VCALENDAR
VERSION:2.0
PRODID:-//Intand Corporation//Tandem//EN
METHOD:PUBLISH
BEGIN:VEVENT
DTSTAMP:20260424T040909Z
DTSTART:20190220T211500Z
DTEND:20190220T230000Z
TRANSP:TRANSPARENT
PRIORITY:0
SUMMARY:[Cancelled] LNHS Band Lessons
LOCATION:LNHS Room 616 Band
DESCRIPTION:Groups:\nLNHS Band\n\nSchools:\nLiberty North High School\n\nL
 ocation:\nLNHS Room 616 Band\n\n
URL;VALUE=URI:http://liberty53.tandem.co/index.php?type=view&action=event&
 id=309174
CREATED:20180524T152307Z
LAST-MODIFIED:20190220T154914Z
UID:event_request-309174-liberty53@intand.com
END:VEVENT
END:VCALENDAR
