BEGIN:VCALENDAR
VERSION:2.0
PRODID:-//Intand Corporation//Tandem//EN
METHOD:PUBLISH
BEGIN:VEVENT
DTSTAMP:20260424T061629Z
DTSTART:20180821T201500Z
DTEND:20180821T220000Z
TRANSP:TRANSPARENT
PRIORITY:0
SUMMARY:Cheer Practice
LOCATION:SVMS LGIR
DESCRIPTION:Groups:\nHMS Cheerleading\n\nSchools:\nSouth Valley Middle Sch
 ool\nHeritage Middle School\n\nLocation:\nSVMS LGIR\n\n
URL;VALUE=URI:http://liberty53.tandem.co/index.php?type=view&action=event&
 id=308878
CREATED:20180523T133154Z
LAST-MODIFIED:20180529T174103Z
UID:event_request-308878-liberty53@intand.com
END:VEVENT
END:VCALENDAR
