BEGIN:VCALENDAR
VERSION:2.0
PRODID:-//Intand Corporation//Tandem//EN
METHOD:PUBLISH
BEGIN:VEVENT
DTSTAMP:20260424T061353Z
DTSTART:20181005T203000Z
DTEND:20181005T220000Z
TRANSP:TRANSPARENT
PRIORITY:0
SUMMARY:LNVB Practice
LOCATION:LNHS Fieldhouse (GH HVAC)\, LNHS Aux Gym - 407 (GH HVAC)
DESCRIPTION:Schools:\nLiberty North High School\n\nLocations:\nLNHS Fieldh
 ouse (GH HVAC)\nLNHS Aux Gym - 407 (GH HVAC)\n\n
URL;VALUE=URI:http://liberty53.tandem.co/index.php?type=view&action=event&
 id=308613
CREATED:20180522T122952Z
LAST-MODIFIED:20180522T125738Z
UID:event_request-308613-liberty53@intand.com
END:VEVENT
END:VCALENDAR
