BEGIN:VCALENDAR
VERSION:2.0
PRODID:-//Intand Corporation//Tandem//EN
METHOD:PUBLISH
BEGIN:VEVENT
DTSTAMP:20260424T023341Z
DTSTART:20180811T160000Z
DTEND:20180811T180000Z
TRANSP:TRANSPARENT
PRIORITY:0
SUMMARY:LNVB Parent Meeting 
LOCATION:LNHS Cafeteria (GH HVAC)
DESCRIPTION:Schools:\nLiberty North High School\n\nLocation:\nLNHS Cafeter
 ia (GH HVAC)\n\n
URL;VALUE=URI:http://liberty53.tandem.co/index.php?type=view&action=event&
 id=308584
CREATED:20180522T115747Z
LAST-MODIFIED:20180522T125650Z
UID:event_request-308584-liberty53@intand.com
END:VEVENT
END:VCALENDAR
